BEGIN:VCALENDAR
VERSION:2.0
PRODID:-//United Methodist Church at Shrub Oak - ECPv6.15.20//NONSGML v1.0//EN
CALSCALE:GREGORIAN
METHOD:PUBLISH
X-ORIGINAL-URL:https://umcso.com
X-WR-CALDESC:Events for United Methodist Church at Shrub Oak
REFRESH-INTERVAL;VALUE=DURATION:PT1H
X-Robots-Tag:noindex
X-PUBLISHED-TTL:PT1H
BEGIN:VTIMEZONE
TZID:America/New_York
BEGIN:DAYLIGHT
TZOFFSETFROM:-0500
TZOFFSETTO:-0400
TZNAME:EDT
DTSTART:20280312T070000
END:DAYLIGHT
BEGIN:STANDARD
TZOFFSETFROM:-0400
TZOFFSETTO:-0500
TZNAME:EST
DTSTART:20281105T060000
END:STANDARD
BEGIN:DAYLIGHT
TZOFFSETFROM:-0500
TZOFFSETTO:-0400
TZNAME:EDT
DTSTART:20290311T070000
END:DAYLIGHT
BEGIN:STANDARD
TZOFFSETFROM:-0400
TZOFFSETTO:-0500
TZNAME:EST
DTSTART:20291104T060000
END:STANDARD
BEGIN:DAYLIGHT
TZOFFSETFROM:-0500
TZOFFSETTO:-0400
TZNAME:EDT
DTSTART:20300310T070000
END:DAYLIGHT
BEGIN:STANDARD
TZOFFSETFROM:-0400
TZOFFSETTO:-0500
TZNAME:EST
DTSTART:20301103T060000
END:STANDARD
END:VTIMEZONE
BEGIN:VEVENT
DTSTART;TZID=America/New_York:20290504T100000
DTEND;TZID=America/New_York:20290504T110000
DTSTAMP:20260425T204339
CREATED:20230915T121507Z
LAST-MODIFIED:20230915T121508Z
UID:10005326-1872583200-1872586800@umcso.com
SUMMARY:Small Group 2
DESCRIPTION:
URL:https://umcso.com/event/small-group-2-2-2/2029-05-04/
LOCATION:UMCSO Church\, 1176 East Main Street\, Shrub Oak\, 10588\, United States
END:VEVENT
BEGIN:VEVENT
DTSTART;TZID=America/New_York:20290510T193000
DTEND;TZID=America/New_York:20290510T203000
DTSTAMP:20260425T204339
CREATED:20230915T204252Z
LAST-MODIFIED:20230915T204252Z
UID:10005223-1873135800-1873139400@umcso.com
SUMMARY:Pastor's Bible Study
DESCRIPTION:
URL:https://umcso.com/event/pastors-bible-study/2029-05-10/
LOCATION:UMCSO Church\, 1176 East Main Street\, Shrub Oak\, 10588\, United States
END:VEVENT
BEGIN:VEVENT
DTSTART;TZID=America/New_York:20290511T100000
DTEND;TZID=America/New_York:20290511T110000
DTSTAMP:20260425T204339
CREATED:20230915T121507Z
LAST-MODIFIED:20230915T121508Z
UID:10005327-1873188000-1873191600@umcso.com
SUMMARY:Small Group 2
DESCRIPTION:
URL:https://umcso.com/event/small-group-2-2-2/2029-05-11/
LOCATION:UMCSO Church\, 1176 East Main Street\, Shrub Oak\, 10588\, United States
END:VEVENT
BEGIN:VEVENT
DTSTART;TZID=America/New_York:20290517T193000
DTEND;TZID=America/New_York:20290517T203000
DTSTAMP:20260425T204339
CREATED:20230915T204252Z
LAST-MODIFIED:20230915T204252Z
UID:10005224-1873740600-1873744200@umcso.com
SUMMARY:Pastor's Bible Study
DESCRIPTION:
URL:https://umcso.com/event/pastors-bible-study/2029-05-17/
LOCATION:UMCSO Church\, 1176 East Main Street\, Shrub Oak\, 10588\, United States
END:VEVENT
BEGIN:VEVENT
DTSTART;TZID=America/New_York:20290518T100000
DTEND;TZID=America/New_York:20290518T110000
DTSTAMP:20260425T204339
CREATED:20230915T121507Z
LAST-MODIFIED:20230915T121508Z
UID:10005328-1873792800-1873796400@umcso.com
SUMMARY:Small Group 2
DESCRIPTION:
URL:https://umcso.com/event/small-group-2-2-2/2029-05-18/
LOCATION:UMCSO Church\, 1176 East Main Street\, Shrub Oak\, 10588\, United States
END:VEVENT
BEGIN:VEVENT
DTSTART;TZID=America/New_York:20290524T193000
DTEND;TZID=America/New_York:20290524T203000
DTSTAMP:20260425T204339
CREATED:20230915T204252Z
LAST-MODIFIED:20230915T204252Z
UID:10005225-1874345400-1874349000@umcso.com
SUMMARY:Pastor's Bible Study
DESCRIPTION:
URL:https://umcso.com/event/pastors-bible-study/2029-05-24/
LOCATION:UMCSO Church\, 1176 East Main Street\, Shrub Oak\, 10588\, United States
END:VEVENT
BEGIN:VEVENT
DTSTART;TZID=America/New_York:20290525T100000
DTEND;TZID=America/New_York:20290525T110000
DTSTAMP:20260425T204339
CREATED:20230915T121507Z
LAST-MODIFIED:20230915T121508Z
UID:10005329-1874397600-1874401200@umcso.com
SUMMARY:Small Group 2
DESCRIPTION:
URL:https://umcso.com/event/small-group-2-2-2/2029-05-25/
LOCATION:UMCSO Church\, 1176 East Main Street\, Shrub Oak\, 10588\, United States
END:VEVENT
BEGIN:VEVENT
DTSTART;TZID=America/New_York:20290531T193000
DTEND;TZID=America/New_York:20290531T203000
DTSTAMP:20260425T204339
CREATED:20230915T204252Z
LAST-MODIFIED:20230915T204252Z
UID:10005226-1874950200-1874953800@umcso.com
SUMMARY:Pastor's Bible Study
DESCRIPTION:
URL:https://umcso.com/event/pastors-bible-study/2029-05-31/
LOCATION:UMCSO Church\, 1176 East Main Street\, Shrub Oak\, 10588\, United States
END:VEVENT
BEGIN:VEVENT
DTSTART;TZID=America/New_York:20290601T100000
DTEND;TZID=America/New_York:20290601T110000
DTSTAMP:20260425T204339
CREATED:20230915T121507Z
LAST-MODIFIED:20230915T121508Z
UID:10005330-1875002400-1875006000@umcso.com
SUMMARY:Small Group 2
DESCRIPTION:
URL:https://umcso.com/event/small-group-2-2-2/2029-06-01/
LOCATION:UMCSO Church\, 1176 East Main Street\, Shrub Oak\, 10588\, United States
END:VEVENT
BEGIN:VEVENT
DTSTART;TZID=America/New_York:20290607T193000
DTEND;TZID=America/New_York:20290607T203000
DTSTAMP:20260425T204339
CREATED:20230915T204252Z
LAST-MODIFIED:20230915T204252Z
UID:10005227-1875555000-1875558600@umcso.com
SUMMARY:Pastor's Bible Study
DESCRIPTION:
URL:https://umcso.com/event/pastors-bible-study/2029-06-07/
LOCATION:UMCSO Church\, 1176 East Main Street\, Shrub Oak\, 10588\, United States
END:VEVENT
BEGIN:VEVENT
DTSTART;TZID=America/New_York:20290608T100000
DTEND;TZID=America/New_York:20290608T110000
DTSTAMP:20260425T204339
CREATED:20230915T121507Z
LAST-MODIFIED:20230915T121508Z
UID:10005331-1875607200-1875610800@umcso.com
SUMMARY:Small Group 2
DESCRIPTION:
URL:https://umcso.com/event/small-group-2-2-2/2029-06-08/
LOCATION:UMCSO Church\, 1176 East Main Street\, Shrub Oak\, 10588\, United States
END:VEVENT
BEGIN:VEVENT
DTSTART;TZID=America/New_York:20290614T193000
DTEND;TZID=America/New_York:20290614T203000
DTSTAMP:20260425T204339
CREATED:20230915T204252Z
LAST-MODIFIED:20230915T204252Z
UID:10005228-1876159800-1876163400@umcso.com
SUMMARY:Pastor's Bible Study
DESCRIPTION:
URL:https://umcso.com/event/pastors-bible-study/2029-06-14/
LOCATION:UMCSO Church\, 1176 East Main Street\, Shrub Oak\, 10588\, United States
END:VEVENT
BEGIN:VEVENT
DTSTART;TZID=America/New_York:20290615T100000
DTEND;TZID=America/New_York:20290615T110000
DTSTAMP:20260425T204339
CREATED:20230915T121507Z
LAST-MODIFIED:20230915T121508Z
UID:10005332-1876212000-1876215600@umcso.com
SUMMARY:Small Group 2
DESCRIPTION:
URL:https://umcso.com/event/small-group-2-2-2/2029-06-15/
LOCATION:UMCSO Church\, 1176 East Main Street\, Shrub Oak\, 10588\, United States
END:VEVENT
BEGIN:VEVENT
DTSTART;TZID=America/New_York:20290621T193000
DTEND;TZID=America/New_York:20290621T203000
DTSTAMP:20260425T204339
CREATED:20230915T204252Z
LAST-MODIFIED:20230915T204252Z
UID:10005229-1876764600-1876768200@umcso.com
SUMMARY:Pastor's Bible Study
DESCRIPTION:
URL:https://umcso.com/event/pastors-bible-study/2029-06-21/
LOCATION:UMCSO Church\, 1176 East Main Street\, Shrub Oak\, 10588\, United States
END:VEVENT
BEGIN:VEVENT
DTSTART;TZID=America/New_York:20290622T100000
DTEND;TZID=America/New_York:20290622T110000
DTSTAMP:20260425T204339
CREATED:20230915T121507Z
LAST-MODIFIED:20230915T121508Z
UID:10005333-1876816800-1876820400@umcso.com
SUMMARY:Small Group 2
DESCRIPTION:
URL:https://umcso.com/event/small-group-2-2-2/2029-06-22/
LOCATION:UMCSO Church\, 1176 East Main Street\, Shrub Oak\, 10588\, United States
END:VEVENT
BEGIN:VEVENT
DTSTART;TZID=America/New_York:20290628T193000
DTEND;TZID=America/New_York:20290628T203000
DTSTAMP:20260425T204339
CREATED:20230915T204252Z
LAST-MODIFIED:20230915T204252Z
UID:10005230-1877369400-1877373000@umcso.com
SUMMARY:Pastor's Bible Study
DESCRIPTION:
URL:https://umcso.com/event/pastors-bible-study/2029-06-28/
LOCATION:UMCSO Church\, 1176 East Main Street\, Shrub Oak\, 10588\, United States
END:VEVENT
BEGIN:VEVENT
DTSTART;TZID=America/New_York:20290629T100000
DTEND;TZID=America/New_York:20290629T110000
DTSTAMP:20260425T204339
CREATED:20230915T121507Z
LAST-MODIFIED:20230915T121508Z
UID:10005334-1877421600-1877425200@umcso.com
SUMMARY:Small Group 2
DESCRIPTION:
URL:https://umcso.com/event/small-group-2-2-2/2029-06-29/
LOCATION:UMCSO Church\, 1176 East Main Street\, Shrub Oak\, 10588\, United States
END:VEVENT
BEGIN:VEVENT
DTSTART;TZID=America/New_York:20290705T193000
DTEND;TZID=America/New_York:20290705T203000
DTSTAMP:20260425T204339
CREATED:20230915T204252Z
LAST-MODIFIED:20230915T204252Z
UID:10005231-1877974200-1877977800@umcso.com
SUMMARY:Pastor's Bible Study
DESCRIPTION:
URL:https://umcso.com/event/pastors-bible-study/2029-07-05/
LOCATION:UMCSO Church\, 1176 East Main Street\, Shrub Oak\, 10588\, United States
END:VEVENT
BEGIN:VEVENT
DTSTART;TZID=America/New_York:20290706T100000
DTEND;TZID=America/New_York:20290706T110000
DTSTAMP:20260425T204339
CREATED:20230915T121507Z
LAST-MODIFIED:20230915T121508Z
UID:10005335-1878026400-1878030000@umcso.com
SUMMARY:Small Group 2
DESCRIPTION:
URL:https://umcso.com/event/small-group-2-2-2/2029-07-06/
LOCATION:UMCSO Church\, 1176 East Main Street\, Shrub Oak\, 10588\, United States
END:VEVENT
BEGIN:VEVENT
DTSTART;TZID=America/New_York:20290712T193000
DTEND;TZID=America/New_York:20290712T203000
DTSTAMP:20260425T204339
CREATED:20230915T204252Z
LAST-MODIFIED:20230915T204252Z
UID:10005232-1878579000-1878582600@umcso.com
SUMMARY:Pastor's Bible Study
DESCRIPTION:
URL:https://umcso.com/event/pastors-bible-study/2029-07-12/
LOCATION:UMCSO Church\, 1176 East Main Street\, Shrub Oak\, 10588\, United States
END:VEVENT
BEGIN:VEVENT
DTSTART;TZID=America/New_York:20290713T100000
DTEND;TZID=America/New_York:20290713T110000
DTSTAMP:20260425T204339
CREATED:20230915T121507Z
LAST-MODIFIED:20230915T121508Z
UID:10005336-1878631200-1878634800@umcso.com
SUMMARY:Small Group 2
DESCRIPTION:
URL:https://umcso.com/event/small-group-2-2-2/2029-07-13/
LOCATION:UMCSO Church\, 1176 East Main Street\, Shrub Oak\, 10588\, United States
END:VEVENT
BEGIN:VEVENT
DTSTART;TZID=America/New_York:20290719T193000
DTEND;TZID=America/New_York:20290719T203000
DTSTAMP:20260425T204339
CREATED:20230915T204252Z
LAST-MODIFIED:20230915T204252Z
UID:10005233-1879183800-1879187400@umcso.com
SUMMARY:Pastor's Bible Study
DESCRIPTION:
URL:https://umcso.com/event/pastors-bible-study/2029-07-19/
LOCATION:UMCSO Church\, 1176 East Main Street\, Shrub Oak\, 10588\, United States
END:VEVENT
BEGIN:VEVENT
DTSTART;TZID=America/New_York:20290720T100000
DTEND;TZID=America/New_York:20290720T110000
DTSTAMP:20260425T204339
CREATED:20230915T121507Z
LAST-MODIFIED:20230915T121508Z
UID:10005337-1879236000-1879239600@umcso.com
SUMMARY:Small Group 2
DESCRIPTION:
URL:https://umcso.com/event/small-group-2-2-2/2029-07-20/
LOCATION:UMCSO Church\, 1176 East Main Street\, Shrub Oak\, 10588\, United States
END:VEVENT
BEGIN:VEVENT
DTSTART;TZID=America/New_York:20290726T193000
DTEND;TZID=America/New_York:20290726T203000
DTSTAMP:20260425T204339
CREATED:20230915T204252Z
LAST-MODIFIED:20230915T204252Z
UID:10005234-1879788600-1879792200@umcso.com
SUMMARY:Pastor's Bible Study
DESCRIPTION:
URL:https://umcso.com/event/pastors-bible-study/2029-07-26/
LOCATION:UMCSO Church\, 1176 East Main Street\, Shrub Oak\, 10588\, United States
END:VEVENT
BEGIN:VEVENT
DTSTART;TZID=America/New_York:20290727T100000
DTEND;TZID=America/New_York:20290727T110000
DTSTAMP:20260425T204339
CREATED:20230915T121507Z
LAST-MODIFIED:20230915T121508Z
UID:10005338-1879840800-1879844400@umcso.com
SUMMARY:Small Group 2
DESCRIPTION:
URL:https://umcso.com/event/small-group-2-2-2/2029-07-27/
LOCATION:UMCSO Church\, 1176 East Main Street\, Shrub Oak\, 10588\, United States
END:VEVENT
BEGIN:VEVENT
DTSTART;TZID=America/New_York:20290802T193000
DTEND;TZID=America/New_York:20290802T203000
DTSTAMP:20260425T204339
CREATED:20230915T204252Z
LAST-MODIFIED:20230915T204252Z
UID:10005235-1880393400-1880397000@umcso.com
SUMMARY:Pastor's Bible Study
DESCRIPTION:
URL:https://umcso.com/event/pastors-bible-study/2029-08-02/
LOCATION:UMCSO Church\, 1176 East Main Street\, Shrub Oak\, 10588\, United States
END:VEVENT
BEGIN:VEVENT
DTSTART;TZID=America/New_York:20290803T100000
DTEND;TZID=America/New_York:20290803T110000
DTSTAMP:20260425T204339
CREATED:20230915T121507Z
LAST-MODIFIED:20230915T121508Z
UID:10005339-1880445600-1880449200@umcso.com
SUMMARY:Small Group 2
DESCRIPTION:
URL:https://umcso.com/event/small-group-2-2-2/2029-08-03/
LOCATION:UMCSO Church\, 1176 East Main Street\, Shrub Oak\, 10588\, United States
END:VEVENT
BEGIN:VEVENT
DTSTART;TZID=America/New_York:20290809T193000
DTEND;TZID=America/New_York:20290809T203000
DTSTAMP:20260425T204339
CREATED:20230915T204252Z
LAST-MODIFIED:20230915T204252Z
UID:10005236-1880998200-1881001800@umcso.com
SUMMARY:Pastor's Bible Study
DESCRIPTION:
URL:https://umcso.com/event/pastors-bible-study/2029-08-09/
LOCATION:UMCSO Church\, 1176 East Main Street\, Shrub Oak\, 10588\, United States
END:VEVENT
BEGIN:VEVENT
DTSTART;TZID=America/New_York:20290810T100000
DTEND;TZID=America/New_York:20290810T110000
DTSTAMP:20260425T204339
CREATED:20230915T121507Z
LAST-MODIFIED:20230915T121508Z
UID:10005340-1881050400-1881054000@umcso.com
SUMMARY:Small Group 2
DESCRIPTION:
URL:https://umcso.com/event/small-group-2-2-2/2029-08-10/
LOCATION:UMCSO Church\, 1176 East Main Street\, Shrub Oak\, 10588\, United States
END:VEVENT
BEGIN:VEVENT
DTSTART;TZID=America/New_York:20290816T193000
DTEND;TZID=America/New_York:20290816T203000
DTSTAMP:20260425T204339
CREATED:20230915T204252Z
LAST-MODIFIED:20230915T204252Z
UID:10005237-1881603000-1881606600@umcso.com
SUMMARY:Pastor's Bible Study
DESCRIPTION:
URL:https://umcso.com/event/pastors-bible-study/2029-08-16/
LOCATION:UMCSO Church\, 1176 East Main Street\, Shrub Oak\, 10588\, United States
END:VEVENT
END:VCALENDAR