BEGIN:VCALENDAR
VERSION:2.0
PRODID:-//United Methodist Church at Shrub Oak - ECPv6.15.20//NONSGML v1.0//EN
CALSCALE:GREGORIAN
METHOD:PUBLISH
X-ORIGINAL-URL:https://umcso.com
X-WR-CALDESC:Events for United Methodist Church at Shrub Oak
REFRESH-INTERVAL;VALUE=DURATION:PT1H
X-Robots-Tag:noindex
X-PUBLISHED-TTL:PT1H
BEGIN:VTIMEZONE
TZID:America/New_York
BEGIN:DAYLIGHT
TZOFFSETFROM:-0500
TZOFFSETTO:-0400
TZNAME:EDT
DTSTART:20280312T070000
END:DAYLIGHT
BEGIN:STANDARD
TZOFFSETFROM:-0400
TZOFFSETTO:-0500
TZNAME:EST
DTSTART:20281105T060000
END:STANDARD
BEGIN:DAYLIGHT
TZOFFSETFROM:-0500
TZOFFSETTO:-0400
TZNAME:EDT
DTSTART:20290311T070000
END:DAYLIGHT
BEGIN:STANDARD
TZOFFSETFROM:-0400
TZOFFSETTO:-0500
TZNAME:EST
DTSTART:20291104T060000
END:STANDARD
BEGIN:DAYLIGHT
TZOFFSETFROM:-0500
TZOFFSETTO:-0400
TZNAME:EDT
DTSTART:20300310T070000
END:DAYLIGHT
BEGIN:STANDARD
TZOFFSETFROM:-0400
TZOFFSETTO:-0500
TZNAME:EST
DTSTART:20301103T060000
END:STANDARD
END:VTIMEZONE
BEGIN:VEVENT
DTSTART;TZID=America/New_York:20290119T100000
DTEND;TZID=America/New_York:20290119T110000
DTSTAMP:20260425T063027
CREATED:20230915T121507Z
LAST-MODIFIED:20230915T121508Z
UID:10005311-1863511200-1863514800@umcso.com
SUMMARY:Small Group 2
DESCRIPTION:
URL:https://umcso.com/event/small-group-2-2-2/2029-01-19/
LOCATION:UMCSO Church\, 1176 East Main Street\, Shrub Oak\, 10588\, United States
END:VEVENT
BEGIN:VEVENT
DTSTART;TZID=America/New_York:20290125T193000
DTEND;TZID=America/New_York:20290125T203000
DTSTAMP:20260425T063027
CREATED:20230915T204252Z
LAST-MODIFIED:20230915T204252Z
UID:10005208-1864063800-1864067400@umcso.com
SUMMARY:Pastor's Bible Study
DESCRIPTION:
URL:https://umcso.com/event/pastors-bible-study/2029-01-25/
LOCATION:UMCSO Church\, 1176 East Main Street\, Shrub Oak\, 10588\, United States
END:VEVENT
BEGIN:VEVENT
DTSTART;TZID=America/New_York:20290126T100000
DTEND;TZID=America/New_York:20290126T110000
DTSTAMP:20260425T063027
CREATED:20230915T121507Z
LAST-MODIFIED:20230915T121508Z
UID:10005312-1864116000-1864119600@umcso.com
SUMMARY:Small Group 2
DESCRIPTION:
URL:https://umcso.com/event/small-group-2-2-2/2029-01-26/
LOCATION:UMCSO Church\, 1176 East Main Street\, Shrub Oak\, 10588\, United States
END:VEVENT
BEGIN:VEVENT
DTSTART;TZID=America/New_York:20290201T193000
DTEND;TZID=America/New_York:20290201T203000
DTSTAMP:20260425T063027
CREATED:20230915T204252Z
LAST-MODIFIED:20230915T204252Z
UID:10005209-1864668600-1864672200@umcso.com
SUMMARY:Pastor's Bible Study
DESCRIPTION:
URL:https://umcso.com/event/pastors-bible-study/2029-02-01/
LOCATION:UMCSO Church\, 1176 East Main Street\, Shrub Oak\, 10588\, United States
END:VEVENT
BEGIN:VEVENT
DTSTART;TZID=America/New_York:20290202T100000
DTEND;TZID=America/New_York:20290202T110000
DTSTAMP:20260425T063027
CREATED:20230915T121507Z
LAST-MODIFIED:20230915T121508Z
UID:10005313-1864720800-1864724400@umcso.com
SUMMARY:Small Group 2
DESCRIPTION:
URL:https://umcso.com/event/small-group-2-2-2/2029-02-02/
LOCATION:UMCSO Church\, 1176 East Main Street\, Shrub Oak\, 10588\, United States
END:VEVENT
BEGIN:VEVENT
DTSTART;TZID=America/New_York:20290208T193000
DTEND;TZID=America/New_York:20290208T203000
DTSTAMP:20260425T063027
CREATED:20230915T204252Z
LAST-MODIFIED:20230915T204252Z
UID:10005210-1865273400-1865277000@umcso.com
SUMMARY:Pastor's Bible Study
DESCRIPTION:
URL:https://umcso.com/event/pastors-bible-study/2029-02-08/
LOCATION:UMCSO Church\, 1176 East Main Street\, Shrub Oak\, 10588\, United States
END:VEVENT
BEGIN:VEVENT
DTSTART;TZID=America/New_York:20290209T100000
DTEND;TZID=America/New_York:20290209T110000
DTSTAMP:20260425T063027
CREATED:20230915T121507Z
LAST-MODIFIED:20230915T121508Z
UID:10005314-1865325600-1865329200@umcso.com
SUMMARY:Small Group 2
DESCRIPTION:
URL:https://umcso.com/event/small-group-2-2-2/2029-02-09/
LOCATION:UMCSO Church\, 1176 East Main Street\, Shrub Oak\, 10588\, United States
END:VEVENT
BEGIN:VEVENT
DTSTART;TZID=America/New_York:20290215T193000
DTEND;TZID=America/New_York:20290215T203000
DTSTAMP:20260425T063027
CREATED:20230915T204252Z
LAST-MODIFIED:20230915T204252Z
UID:10005211-1865878200-1865881800@umcso.com
SUMMARY:Pastor's Bible Study
DESCRIPTION:
URL:https://umcso.com/event/pastors-bible-study/2029-02-15/
LOCATION:UMCSO Church\, 1176 East Main Street\, Shrub Oak\, 10588\, United States
END:VEVENT
BEGIN:VEVENT
DTSTART;TZID=America/New_York:20290216T100000
DTEND;TZID=America/New_York:20290216T110000
DTSTAMP:20260425T063027
CREATED:20230915T121507Z
LAST-MODIFIED:20230915T121508Z
UID:10005315-1865930400-1865934000@umcso.com
SUMMARY:Small Group 2
DESCRIPTION:
URL:https://umcso.com/event/small-group-2-2-2/2029-02-16/
LOCATION:UMCSO Church\, 1176 East Main Street\, Shrub Oak\, 10588\, United States
END:VEVENT
BEGIN:VEVENT
DTSTART;TZID=America/New_York:20290222T193000
DTEND;TZID=America/New_York:20290222T203000
DTSTAMP:20260425T063027
CREATED:20230915T204252Z
LAST-MODIFIED:20230915T204252Z
UID:10005212-1866483000-1866486600@umcso.com
SUMMARY:Pastor's Bible Study
DESCRIPTION:
URL:https://umcso.com/event/pastors-bible-study/2029-02-22/
LOCATION:UMCSO Church\, 1176 East Main Street\, Shrub Oak\, 10588\, United States
END:VEVENT
BEGIN:VEVENT
DTSTART;TZID=America/New_York:20290223T100000
DTEND;TZID=America/New_York:20290223T110000
DTSTAMP:20260425T063027
CREATED:20230915T121507Z
LAST-MODIFIED:20230915T121508Z
UID:10005316-1866535200-1866538800@umcso.com
SUMMARY:Small Group 2
DESCRIPTION:
URL:https://umcso.com/event/small-group-2-2-2/2029-02-23/
LOCATION:UMCSO Church\, 1176 East Main Street\, Shrub Oak\, 10588\, United States
END:VEVENT
BEGIN:VEVENT
DTSTART;TZID=America/New_York:20290301T193000
DTEND;TZID=America/New_York:20290301T203000
DTSTAMP:20260425T063027
CREATED:20230915T204252Z
LAST-MODIFIED:20230915T204252Z
UID:10005213-1867087800-1867091400@umcso.com
SUMMARY:Pastor's Bible Study
DESCRIPTION:
URL:https://umcso.com/event/pastors-bible-study/2029-03-01/
LOCATION:UMCSO Church\, 1176 East Main Street\, Shrub Oak\, 10588\, United States
END:VEVENT
BEGIN:VEVENT
DTSTART;TZID=America/New_York:20290302T100000
DTEND;TZID=America/New_York:20290302T110000
DTSTAMP:20260425T063027
CREATED:20230915T121507Z
LAST-MODIFIED:20230915T121508Z
UID:10005317-1867140000-1867143600@umcso.com
SUMMARY:Small Group 2
DESCRIPTION:
URL:https://umcso.com/event/small-group-2-2-2/2029-03-02/
LOCATION:UMCSO Church\, 1176 East Main Street\, Shrub Oak\, 10588\, United States
END:VEVENT
BEGIN:VEVENT
DTSTART;TZID=America/New_York:20290308T193000
DTEND;TZID=America/New_York:20290308T203000
DTSTAMP:20260425T063027
CREATED:20230915T204252Z
LAST-MODIFIED:20230915T204252Z
UID:10005214-1867692600-1867696200@umcso.com
SUMMARY:Pastor's Bible Study
DESCRIPTION:
URL:https://umcso.com/event/pastors-bible-study/2029-03-08/
LOCATION:UMCSO Church\, 1176 East Main Street\, Shrub Oak\, 10588\, United States
END:VEVENT
BEGIN:VEVENT
DTSTART;TZID=America/New_York:20290309T100000
DTEND;TZID=America/New_York:20290309T110000
DTSTAMP:20260425T063027
CREATED:20230915T121507Z
LAST-MODIFIED:20230915T121508Z
UID:10005318-1867744800-1867748400@umcso.com
SUMMARY:Small Group 2
DESCRIPTION:
URL:https://umcso.com/event/small-group-2-2-2/2029-03-09/
LOCATION:UMCSO Church\, 1176 East Main Street\, Shrub Oak\, 10588\, United States
END:VEVENT
BEGIN:VEVENT
DTSTART;TZID=America/New_York:20290315T193000
DTEND;TZID=America/New_York:20290315T203000
DTSTAMP:20260425T063027
CREATED:20230915T204252Z
LAST-MODIFIED:20230915T204252Z
UID:10005215-1868297400-1868301000@umcso.com
SUMMARY:Pastor's Bible Study
DESCRIPTION:
URL:https://umcso.com/event/pastors-bible-study/2029-03-15/
LOCATION:UMCSO Church\, 1176 East Main Street\, Shrub Oak\, 10588\, United States
END:VEVENT
BEGIN:VEVENT
DTSTART;TZID=America/New_York:20290316T100000
DTEND;TZID=America/New_York:20290316T110000
DTSTAMP:20260425T063027
CREATED:20230915T121507Z
LAST-MODIFIED:20230915T121508Z
UID:10005319-1868349600-1868353200@umcso.com
SUMMARY:Small Group 2
DESCRIPTION:
URL:https://umcso.com/event/small-group-2-2-2/2029-03-16/
LOCATION:UMCSO Church\, 1176 East Main Street\, Shrub Oak\, 10588\, United States
END:VEVENT
BEGIN:VEVENT
DTSTART;TZID=America/New_York:20290322T193000
DTEND;TZID=America/New_York:20290322T203000
DTSTAMP:20260425T063027
CREATED:20230915T204252Z
LAST-MODIFIED:20230915T204252Z
UID:10005216-1868902200-1868905800@umcso.com
SUMMARY:Pastor's Bible Study
DESCRIPTION:
URL:https://umcso.com/event/pastors-bible-study/2029-03-22/
LOCATION:UMCSO Church\, 1176 East Main Street\, Shrub Oak\, 10588\, United States
END:VEVENT
BEGIN:VEVENT
DTSTART;TZID=America/New_York:20290323T100000
DTEND;TZID=America/New_York:20290323T110000
DTSTAMP:20260425T063027
CREATED:20230915T121507Z
LAST-MODIFIED:20230915T121508Z
UID:10005320-1868954400-1868958000@umcso.com
SUMMARY:Small Group 2
DESCRIPTION:
URL:https://umcso.com/event/small-group-2-2-2/2029-03-23/
LOCATION:UMCSO Church\, 1176 East Main Street\, Shrub Oak\, 10588\, United States
END:VEVENT
BEGIN:VEVENT
DTSTART;TZID=America/New_York:20290329T193000
DTEND;TZID=America/New_York:20290329T203000
DTSTAMP:20260425T063027
CREATED:20230915T204252Z
LAST-MODIFIED:20230915T204252Z
UID:10005217-1869507000-1869510600@umcso.com
SUMMARY:Pastor's Bible Study
DESCRIPTION:
URL:https://umcso.com/event/pastors-bible-study/2029-03-29/
LOCATION:UMCSO Church\, 1176 East Main Street\, Shrub Oak\, 10588\, United States
END:VEVENT
BEGIN:VEVENT
DTSTART;TZID=America/New_York:20290330T100000
DTEND;TZID=America/New_York:20290330T110000
DTSTAMP:20260425T063027
CREATED:20230915T121507Z
LAST-MODIFIED:20230915T121508Z
UID:10005321-1869559200-1869562800@umcso.com
SUMMARY:Small Group 2
DESCRIPTION:
URL:https://umcso.com/event/small-group-2-2-2/2029-03-30/
LOCATION:UMCSO Church\, 1176 East Main Street\, Shrub Oak\, 10588\, United States
END:VEVENT
BEGIN:VEVENT
DTSTART;TZID=America/New_York:20290405T193000
DTEND;TZID=America/New_York:20290405T203000
DTSTAMP:20260425T063027
CREATED:20230915T204252Z
LAST-MODIFIED:20230915T204252Z
UID:10005218-1870111800-1870115400@umcso.com
SUMMARY:Pastor's Bible Study
DESCRIPTION:
URL:https://umcso.com/event/pastors-bible-study/2029-04-05/
LOCATION:UMCSO Church\, 1176 East Main Street\, Shrub Oak\, 10588\, United States
END:VEVENT
BEGIN:VEVENT
DTSTART;TZID=America/New_York:20290406T100000
DTEND;TZID=America/New_York:20290406T110000
DTSTAMP:20260425T063027
CREATED:20230915T121507Z
LAST-MODIFIED:20230915T121508Z
UID:10005322-1870164000-1870167600@umcso.com
SUMMARY:Small Group 2
DESCRIPTION:
URL:https://umcso.com/event/small-group-2-2-2/2029-04-06/
LOCATION:UMCSO Church\, 1176 East Main Street\, Shrub Oak\, 10588\, United States
END:VEVENT
BEGIN:VEVENT
DTSTART;TZID=America/New_York:20290412T193000
DTEND;TZID=America/New_York:20290412T203000
DTSTAMP:20260425T063027
CREATED:20230915T204252Z
LAST-MODIFIED:20230915T204252Z
UID:10005219-1870716600-1870720200@umcso.com
SUMMARY:Pastor's Bible Study
DESCRIPTION:
URL:https://umcso.com/event/pastors-bible-study/2029-04-12/
LOCATION:UMCSO Church\, 1176 East Main Street\, Shrub Oak\, 10588\, United States
END:VEVENT
BEGIN:VEVENT
DTSTART;TZID=America/New_York:20290413T100000
DTEND;TZID=America/New_York:20290413T110000
DTSTAMP:20260425T063027
CREATED:20230915T121507Z
LAST-MODIFIED:20230915T121508Z
UID:10005323-1870768800-1870772400@umcso.com
SUMMARY:Small Group 2
DESCRIPTION:
URL:https://umcso.com/event/small-group-2-2-2/2029-04-13/
LOCATION:UMCSO Church\, 1176 East Main Street\, Shrub Oak\, 10588\, United States
END:VEVENT
BEGIN:VEVENT
DTSTART;TZID=America/New_York:20290419T193000
DTEND;TZID=America/New_York:20290419T203000
DTSTAMP:20260425T063027
CREATED:20230915T204252Z
LAST-MODIFIED:20230915T204252Z
UID:10005220-1871321400-1871325000@umcso.com
SUMMARY:Pastor's Bible Study
DESCRIPTION:
URL:https://umcso.com/event/pastors-bible-study/2029-04-19/
LOCATION:UMCSO Church\, 1176 East Main Street\, Shrub Oak\, 10588\, United States
END:VEVENT
BEGIN:VEVENT
DTSTART;TZID=America/New_York:20290420T100000
DTEND;TZID=America/New_York:20290420T110000
DTSTAMP:20260425T063027
CREATED:20230915T121507Z
LAST-MODIFIED:20230915T121508Z
UID:10005324-1871373600-1871377200@umcso.com
SUMMARY:Small Group 2
DESCRIPTION:
URL:https://umcso.com/event/small-group-2-2-2/2029-04-20/
LOCATION:UMCSO Church\, 1176 East Main Street\, Shrub Oak\, 10588\, United States
END:VEVENT
BEGIN:VEVENT
DTSTART;TZID=America/New_York:20290426T193000
DTEND;TZID=America/New_York:20290426T203000
DTSTAMP:20260425T063027
CREATED:20230915T204252Z
LAST-MODIFIED:20230915T204252Z
UID:10005221-1871926200-1871929800@umcso.com
SUMMARY:Pastor's Bible Study
DESCRIPTION:
URL:https://umcso.com/event/pastors-bible-study/2029-04-26/
LOCATION:UMCSO Church\, 1176 East Main Street\, Shrub Oak\, 10588\, United States
END:VEVENT
BEGIN:VEVENT
DTSTART;TZID=America/New_York:20290427T100000
DTEND;TZID=America/New_York:20290427T110000
DTSTAMP:20260425T063027
CREATED:20230915T121507Z
LAST-MODIFIED:20230915T121508Z
UID:10005325-1871978400-1871982000@umcso.com
SUMMARY:Small Group 2
DESCRIPTION:
URL:https://umcso.com/event/small-group-2-2-2/2029-04-27/
LOCATION:UMCSO Church\, 1176 East Main Street\, Shrub Oak\, 10588\, United States
END:VEVENT
BEGIN:VEVENT
DTSTART;TZID=America/New_York:20290503T193000
DTEND;TZID=America/New_York:20290503T203000
DTSTAMP:20260425T063027
CREATED:20230915T204252Z
LAST-MODIFIED:20230915T204252Z
UID:10005222-1872531000-1872534600@umcso.com
SUMMARY:Pastor's Bible Study
DESCRIPTION:
URL:https://umcso.com/event/pastors-bible-study/2029-05-03/
LOCATION:UMCSO Church\, 1176 East Main Street\, Shrub Oak\, 10588\, United States
END:VEVENT
END:VCALENDAR