BEGIN:VCALENDAR
VERSION:2.0
PRODID:-//United Methodist Church at Shrub Oak - ECPv6.15.20//NONSGML v1.0//EN
CALSCALE:GREGORIAN
METHOD:PUBLISH
X-WR-CALNAME:United Methodist Church at Shrub Oak
X-ORIGINAL-URL:https://umcso.com
X-WR-CALDESC:Events for United Methodist Church at Shrub Oak
REFRESH-INTERVAL;VALUE=DURATION:PT1H
X-Robots-Tag:noindex
X-PUBLISHED-TTL:PT1H
BEGIN:VTIMEZONE
TZID:America/New_York
BEGIN:DAYLIGHT
TZOFFSETFROM:-0500
TZOFFSETTO:-0400
TZNAME:EDT
DTSTART:20260308T070000
END:DAYLIGHT
BEGIN:STANDARD
TZOFFSETFROM:-0400
TZOFFSETTO:-0500
TZNAME:EST
DTSTART:20261101T060000
END:STANDARD
BEGIN:DAYLIGHT
TZOFFSETFROM:-0500
TZOFFSETTO:-0400
TZNAME:EDT
DTSTART:20270314T070000
END:DAYLIGHT
BEGIN:STANDARD
TZOFFSETFROM:-0400
TZOFFSETTO:-0500
TZNAME:EST
DTSTART:20271107T060000
END:STANDARD
BEGIN:DAYLIGHT
TZOFFSETFROM:-0500
TZOFFSETTO:-0400
TZNAME:EDT
DTSTART:20280312T070000
END:DAYLIGHT
BEGIN:STANDARD
TZOFFSETFROM:-0400
TZOFFSETTO:-0500
TZNAME:EST
DTSTART:20281105T060000
END:STANDARD
END:VTIMEZONE
BEGIN:VEVENT
DTSTART;TZID=America/New_York:20270528T100000
DTEND;TZID=America/New_York:20270528T110000
DTSTAMP:20260421T090604
CREATED:20230915T121507Z
LAST-MODIFIED:20230915T121508Z
UID:10003906-1811498400-1811502000@umcso.com
SUMMARY:Small Group 2
DESCRIPTION:
URL:https://umcso.com/event/small-group-2-2-2/2027-05-28/
LOCATION:UMCSO Church\, 1176 East Main Street\, Shrub Oak\, 10588\, United States
END:VEVENT
BEGIN:VEVENT
DTSTART;TZID=America/New_York:20270603T193000
DTEND;TZID=America/New_York:20270603T203000
DTSTAMP:20260421T090604
CREATED:20230915T204252Z
LAST-MODIFIED:20230915T204252Z
UID:10004763-1812051000-1812054600@umcso.com
SUMMARY:Pastor's Bible Study
DESCRIPTION:
URL:https://umcso.com/event/pastors-bible-study/2027-06-03/
LOCATION:UMCSO Church\, 1176 East Main Street\, Shrub Oak\, 10588\, United States
END:VEVENT
BEGIN:VEVENT
DTSTART;TZID=America/New_York:20270604T100000
DTEND;TZID=America/New_York:20270604T110000
DTSTAMP:20260421T090604
CREATED:20230915T121507Z
LAST-MODIFIED:20230915T121508Z
UID:10003907-1812103200-1812106800@umcso.com
SUMMARY:Small Group 2
DESCRIPTION:
URL:https://umcso.com/event/small-group-2-2-2/2027-06-04/
LOCATION:UMCSO Church\, 1176 East Main Street\, Shrub Oak\, 10588\, United States
END:VEVENT
BEGIN:VEVENT
DTSTART;TZID=America/New_York:20270610T193000
DTEND;TZID=America/New_York:20270610T203000
DTSTAMP:20260421T090604
CREATED:20230915T204252Z
LAST-MODIFIED:20230915T204252Z
UID:10004764-1812655800-1812659400@umcso.com
SUMMARY:Pastor's Bible Study
DESCRIPTION:
URL:https://umcso.com/event/pastors-bible-study/2027-06-10/
LOCATION:UMCSO Church\, 1176 East Main Street\, Shrub Oak\, 10588\, United States
END:VEVENT
BEGIN:VEVENT
DTSTART;TZID=America/New_York:20270611T100000
DTEND;TZID=America/New_York:20270611T110000
DTSTAMP:20260421T090604
CREATED:20230915T121507Z
LAST-MODIFIED:20230915T121508Z
UID:10003908-1812708000-1812711600@umcso.com
SUMMARY:Small Group 2
DESCRIPTION:
URL:https://umcso.com/event/small-group-2-2-2/2027-06-11/
LOCATION:UMCSO Church\, 1176 East Main Street\, Shrub Oak\, 10588\, United States
END:VEVENT
BEGIN:VEVENT
DTSTART;TZID=America/New_York:20270617T193000
DTEND;TZID=America/New_York:20270617T203000
DTSTAMP:20260421T090604
CREATED:20230915T204252Z
LAST-MODIFIED:20230915T204252Z
UID:10004765-1813260600-1813264200@umcso.com
SUMMARY:Pastor's Bible Study
DESCRIPTION:
URL:https://umcso.com/event/pastors-bible-study/2027-06-17/
LOCATION:UMCSO Church\, 1176 East Main Street\, Shrub Oak\, 10588\, United States
END:VEVENT
BEGIN:VEVENT
DTSTART;TZID=America/New_York:20270618T100000
DTEND;TZID=America/New_York:20270618T110000
DTSTAMP:20260421T090604
CREATED:20230915T121507Z
LAST-MODIFIED:20230915T121508Z
UID:10003909-1813312800-1813316400@umcso.com
SUMMARY:Small Group 2
DESCRIPTION:
URL:https://umcso.com/event/small-group-2-2-2/2027-06-18/
LOCATION:UMCSO Church\, 1176 East Main Street\, Shrub Oak\, 10588\, United States
END:VEVENT
BEGIN:VEVENT
DTSTART;TZID=America/New_York:20270624T193000
DTEND;TZID=America/New_York:20270624T203000
DTSTAMP:20260421T090604
CREATED:20230915T204252Z
LAST-MODIFIED:20230915T204252Z
UID:10004766-1813865400-1813869000@umcso.com
SUMMARY:Pastor's Bible Study
DESCRIPTION:
URL:https://umcso.com/event/pastors-bible-study/2027-06-24/
LOCATION:UMCSO Church\, 1176 East Main Street\, Shrub Oak\, 10588\, United States
END:VEVENT
BEGIN:VEVENT
DTSTART;TZID=America/New_York:20270625T100000
DTEND;TZID=America/New_York:20270625T110000
DTSTAMP:20260421T090604
CREATED:20230915T121507Z
LAST-MODIFIED:20230915T121508Z
UID:10003910-1813917600-1813921200@umcso.com
SUMMARY:Small Group 2
DESCRIPTION:
URL:https://umcso.com/event/small-group-2-2-2/2027-06-25/
LOCATION:UMCSO Church\, 1176 East Main Street\, Shrub Oak\, 10588\, United States
END:VEVENT
BEGIN:VEVENT
DTSTART;TZID=America/New_York:20270701T193000
DTEND;TZID=America/New_York:20270701T203000
DTSTAMP:20260421T090604
CREATED:20230915T204252Z
LAST-MODIFIED:20230915T204252Z
UID:10004767-1814470200-1814473800@umcso.com
SUMMARY:Pastor's Bible Study
DESCRIPTION:
URL:https://umcso.com/event/pastors-bible-study/2027-07-01/
LOCATION:UMCSO Church\, 1176 East Main Street\, Shrub Oak\, 10588\, United States
END:VEVENT
BEGIN:VEVENT
DTSTART;TZID=America/New_York:20270702T100000
DTEND;TZID=America/New_York:20270702T110000
DTSTAMP:20260421T090604
CREATED:20230915T121507Z
LAST-MODIFIED:20230915T121508Z
UID:10003911-1814522400-1814526000@umcso.com
SUMMARY:Small Group 2
DESCRIPTION:
URL:https://umcso.com/event/small-group-2-2-2/2027-07-02/
LOCATION:UMCSO Church\, 1176 East Main Street\, Shrub Oak\, 10588\, United States
END:VEVENT
BEGIN:VEVENT
DTSTART;TZID=America/New_York:20270708T193000
DTEND;TZID=America/New_York:20270708T203000
DTSTAMP:20260421T090604
CREATED:20230915T204252Z
LAST-MODIFIED:20230915T204252Z
UID:10004768-1815075000-1815078600@umcso.com
SUMMARY:Pastor's Bible Study
DESCRIPTION:
URL:https://umcso.com/event/pastors-bible-study/2027-07-08/
LOCATION:UMCSO Church\, 1176 East Main Street\, Shrub Oak\, 10588\, United States
END:VEVENT
BEGIN:VEVENT
DTSTART;TZID=America/New_York:20270709T100000
DTEND;TZID=America/New_York:20270709T110000
DTSTAMP:20260421T090604
CREATED:20230915T121507Z
LAST-MODIFIED:20230915T121508Z
UID:10003912-1815127200-1815130800@umcso.com
SUMMARY:Small Group 2
DESCRIPTION:
URL:https://umcso.com/event/small-group-2-2-2/2027-07-09/
LOCATION:UMCSO Church\, 1176 East Main Street\, Shrub Oak\, 10588\, United States
END:VEVENT
BEGIN:VEVENT
DTSTART;TZID=America/New_York:20270715T193000
DTEND;TZID=America/New_York:20270715T203000
DTSTAMP:20260421T090604
CREATED:20230915T204252Z
LAST-MODIFIED:20230915T204252Z
UID:10004769-1815679800-1815683400@umcso.com
SUMMARY:Pastor's Bible Study
DESCRIPTION:
URL:https://umcso.com/event/pastors-bible-study/2027-07-15/
LOCATION:UMCSO Church\, 1176 East Main Street\, Shrub Oak\, 10588\, United States
END:VEVENT
BEGIN:VEVENT
DTSTART;TZID=America/New_York:20270716T100000
DTEND;TZID=America/New_York:20270716T110000
DTSTAMP:20260421T090604
CREATED:20230915T121507Z
LAST-MODIFIED:20230915T121508Z
UID:10003913-1815732000-1815735600@umcso.com
SUMMARY:Small Group 2
DESCRIPTION:
URL:https://umcso.com/event/small-group-2-2-2/2027-07-16/
LOCATION:UMCSO Church\, 1176 East Main Street\, Shrub Oak\, 10588\, United States
END:VEVENT
BEGIN:VEVENT
DTSTART;TZID=America/New_York:20270722T193000
DTEND;TZID=America/New_York:20270722T203000
DTSTAMP:20260421T090604
CREATED:20230915T204252Z
LAST-MODIFIED:20230915T204252Z
UID:10004770-1816284600-1816288200@umcso.com
SUMMARY:Pastor's Bible Study
DESCRIPTION:
URL:https://umcso.com/event/pastors-bible-study/2027-07-22/
LOCATION:UMCSO Church\, 1176 East Main Street\, Shrub Oak\, 10588\, United States
END:VEVENT
BEGIN:VEVENT
DTSTART;TZID=America/New_York:20270723T100000
DTEND;TZID=America/New_York:20270723T110000
DTSTAMP:20260421T090604
CREATED:20230915T121507Z
LAST-MODIFIED:20230915T121508Z
UID:10003914-1816336800-1816340400@umcso.com
SUMMARY:Small Group 2
DESCRIPTION:
URL:https://umcso.com/event/small-group-2-2-2/2027-07-23/
LOCATION:UMCSO Church\, 1176 East Main Street\, Shrub Oak\, 10588\, United States
END:VEVENT
BEGIN:VEVENT
DTSTART;TZID=America/New_York:20270729T193000
DTEND;TZID=America/New_York:20270729T203000
DTSTAMP:20260421T090604
CREATED:20230915T204252Z
LAST-MODIFIED:20230915T204252Z
UID:10004771-1816889400-1816893000@umcso.com
SUMMARY:Pastor's Bible Study
DESCRIPTION:
URL:https://umcso.com/event/pastors-bible-study/2027-07-29/
LOCATION:UMCSO Church\, 1176 East Main Street\, Shrub Oak\, 10588\, United States
END:VEVENT
BEGIN:VEVENT
DTSTART;TZID=America/New_York:20270730T100000
DTEND;TZID=America/New_York:20270730T110000
DTSTAMP:20260421T090604
CREATED:20230915T121507Z
LAST-MODIFIED:20230915T121508Z
UID:10003915-1816941600-1816945200@umcso.com
SUMMARY:Small Group 2
DESCRIPTION:
URL:https://umcso.com/event/small-group-2-2-2/2027-07-30/
LOCATION:UMCSO Church\, 1176 East Main Street\, Shrub Oak\, 10588\, United States
END:VEVENT
BEGIN:VEVENT
DTSTART;TZID=America/New_York:20270805T193000
DTEND;TZID=America/New_York:20270805T203000
DTSTAMP:20260421T090604
CREATED:20230915T204252Z
LAST-MODIFIED:20230915T204252Z
UID:10004772-1817494200-1817497800@umcso.com
SUMMARY:Pastor's Bible Study
DESCRIPTION:
URL:https://umcso.com/event/pastors-bible-study/2027-08-05/
LOCATION:UMCSO Church\, 1176 East Main Street\, Shrub Oak\, 10588\, United States
END:VEVENT
BEGIN:VEVENT
DTSTART;TZID=America/New_York:20270806T100000
DTEND;TZID=America/New_York:20270806T110000
DTSTAMP:20260421T090604
CREATED:20230915T121507Z
LAST-MODIFIED:20230915T121508Z
UID:10003916-1817546400-1817550000@umcso.com
SUMMARY:Small Group 2
DESCRIPTION:
URL:https://umcso.com/event/small-group-2-2-2/2027-08-06/
LOCATION:UMCSO Church\, 1176 East Main Street\, Shrub Oak\, 10588\, United States
END:VEVENT
BEGIN:VEVENT
DTSTART;TZID=America/New_York:20270812T193000
DTEND;TZID=America/New_York:20270812T203000
DTSTAMP:20260421T090604
CREATED:20230915T204252Z
LAST-MODIFIED:20230915T204252Z
UID:10004773-1818099000-1818102600@umcso.com
SUMMARY:Pastor's Bible Study
DESCRIPTION:
URL:https://umcso.com/event/pastors-bible-study/2027-08-12/
LOCATION:UMCSO Church\, 1176 East Main Street\, Shrub Oak\, 10588\, United States
END:VEVENT
BEGIN:VEVENT
DTSTART;TZID=America/New_York:20270813T100000
DTEND;TZID=America/New_York:20270813T110000
DTSTAMP:20260421T090604
CREATED:20230915T121507Z
LAST-MODIFIED:20230915T121508Z
UID:10003917-1818151200-1818154800@umcso.com
SUMMARY:Small Group 2
DESCRIPTION:
URL:https://umcso.com/event/small-group-2-2-2/2027-08-13/
LOCATION:UMCSO Church\, 1176 East Main Street\, Shrub Oak\, 10588\, United States
END:VEVENT
BEGIN:VEVENT
DTSTART;TZID=America/New_York:20270819T193000
DTEND;TZID=America/New_York:20270819T203000
DTSTAMP:20260421T090604
CREATED:20230915T204252Z
LAST-MODIFIED:20230915T204252Z
UID:10004774-1818703800-1818707400@umcso.com
SUMMARY:Pastor's Bible Study
DESCRIPTION:
URL:https://umcso.com/event/pastors-bible-study/2027-08-19/
LOCATION:UMCSO Church\, 1176 East Main Street\, Shrub Oak\, 10588\, United States
END:VEVENT
BEGIN:VEVENT
DTSTART;TZID=America/New_York:20270820T100000
DTEND;TZID=America/New_York:20270820T110000
DTSTAMP:20260421T090604
CREATED:20230915T121507Z
LAST-MODIFIED:20230915T121508Z
UID:10003918-1818756000-1818759600@umcso.com
SUMMARY:Small Group 2
DESCRIPTION:
URL:https://umcso.com/event/small-group-2-2-2/2027-08-20/
LOCATION:UMCSO Church\, 1176 East Main Street\, Shrub Oak\, 10588\, United States
END:VEVENT
BEGIN:VEVENT
DTSTART;TZID=America/New_York:20270826T193000
DTEND;TZID=America/New_York:20270826T203000
DTSTAMP:20260421T090604
CREATED:20230915T204252Z
LAST-MODIFIED:20230915T204252Z
UID:10004775-1819308600-1819312200@umcso.com
SUMMARY:Pastor's Bible Study
DESCRIPTION:
URL:https://umcso.com/event/pastors-bible-study/2027-08-26/
LOCATION:UMCSO Church\, 1176 East Main Street\, Shrub Oak\, 10588\, United States
END:VEVENT
BEGIN:VEVENT
DTSTART;TZID=America/New_York:20270827T100000
DTEND;TZID=America/New_York:20270827T110000
DTSTAMP:20260421T090604
CREATED:20230915T121507Z
LAST-MODIFIED:20230915T121508Z
UID:10003919-1819360800-1819364400@umcso.com
SUMMARY:Small Group 2
DESCRIPTION:
URL:https://umcso.com/event/small-group-2-2-2/2027-08-27/
LOCATION:UMCSO Church\, 1176 East Main Street\, Shrub Oak\, 10588\, United States
END:VEVENT
BEGIN:VEVENT
DTSTART;TZID=America/New_York:20270902T193000
DTEND;TZID=America/New_York:20270902T203000
DTSTAMP:20260421T090604
CREATED:20230915T204252Z
LAST-MODIFIED:20230915T204252Z
UID:10004776-1819913400-1819917000@umcso.com
SUMMARY:Pastor's Bible Study
DESCRIPTION:
URL:https://umcso.com/event/pastors-bible-study/2027-09-02/
LOCATION:UMCSO Church\, 1176 East Main Street\, Shrub Oak\, 10588\, United States
END:VEVENT
BEGIN:VEVENT
DTSTART;TZID=America/New_York:20270903T100000
DTEND;TZID=America/New_York:20270903T110000
DTSTAMP:20260421T090604
CREATED:20230915T121507Z
LAST-MODIFIED:20230915T121508Z
UID:10003920-1819965600-1819969200@umcso.com
SUMMARY:Small Group 2
DESCRIPTION:
URL:https://umcso.com/event/small-group-2-2-2/2027-09-03/
LOCATION:UMCSO Church\, 1176 East Main Street\, Shrub Oak\, 10588\, United States
END:VEVENT
BEGIN:VEVENT
DTSTART;TZID=America/New_York:20270909T193000
DTEND;TZID=America/New_York:20270909T203000
DTSTAMP:20260421T090604
CREATED:20230915T204252Z
LAST-MODIFIED:20230915T204252Z
UID:10004777-1820518200-1820521800@umcso.com
SUMMARY:Pastor's Bible Study
DESCRIPTION:
URL:https://umcso.com/event/pastors-bible-study/2027-09-09/
LOCATION:UMCSO Church\, 1176 East Main Street\, Shrub Oak\, 10588\, United States
END:VEVENT
END:VCALENDAR