BEGIN:VCALENDAR
VERSION:2.0
PRODID:-//United Methodist Church at Shrub Oak - ECPv6.15.20//NONSGML v1.0//EN
CALSCALE:GREGORIAN
METHOD:PUBLISH
X-WR-CALNAME:United Methodist Church at Shrub Oak
X-ORIGINAL-URL:https://umcso.com
X-WR-CALDESC:Events for United Methodist Church at Shrub Oak
REFRESH-INTERVAL;VALUE=DURATION:PT1H
X-Robots-Tag:noindex
X-PUBLISHED-TTL:PT1H
BEGIN:VTIMEZONE
TZID:America/New_York
BEGIN:DAYLIGHT
TZOFFSETFROM:-0500
TZOFFSETTO:-0400
TZNAME:EDT
DTSTART:20270314T070000
END:DAYLIGHT
BEGIN:STANDARD
TZOFFSETFROM:-0400
TZOFFSETTO:-0500
TZNAME:EST
DTSTART:20271107T060000
END:STANDARD
BEGIN:DAYLIGHT
TZOFFSETFROM:-0500
TZOFFSETTO:-0400
TZNAME:EDT
DTSTART:20280312T070000
END:DAYLIGHT
BEGIN:STANDARD
TZOFFSETFROM:-0400
TZOFFSETTO:-0500
TZNAME:EST
DTSTART:20281105T060000
END:STANDARD
BEGIN:DAYLIGHT
TZOFFSETFROM:-0500
TZOFFSETTO:-0400
TZNAME:EDT
DTSTART:20290311T070000
END:DAYLIGHT
BEGIN:STANDARD
TZOFFSETFROM:-0400
TZOFFSETTO:-0500
TZNAME:EST
DTSTART:20291104T060000
END:STANDARD
END:VTIMEZONE
BEGIN:VEVENT
DTSTART;TZID=America/New_York:20281019T110000
DTEND;TZID=America/New_York:20281019T113000
DTSTAMP:20260420T045023
CREATED:20230914T225916Z
LAST-MODIFIED:20230914T225916Z
UID:10005870-1855566000-1855567800@umcso.com
SUMMARY:Prayer Meeting
DESCRIPTION:
URL:https://umcso.com/event/prayer-meeting-2/2028-10-19/
LOCATION:Chapel
END:VEVENT
BEGIN:VEVENT
DTSTART;TZID=America/New_York:20281019T130000
DTEND;TZID=America/New_York:20281019T140000
DTSTAMP:20260420T045023
CREATED:20260102T012646Z
LAST-MODIFIED:20260102T014017Z
UID:10006254-1855573200-1855576800@umcso.com
SUMMARY:Small Group 1
DESCRIPTION:
URL:https://umcso.com/event/small-group-1-2017-04-19-2023-07-26-2023-07-26-2-2/2028-10-19/
END:VEVENT
BEGIN:VEVENT
DTSTART;TZID=America/New_York:20281019T193000
DTEND;TZID=America/New_York:20281019T203000
DTSTAMP:20260420T045023
CREATED:20230915T204252Z
LAST-MODIFIED:20230915T204252Z
UID:10005194-1855596600-1855600200@umcso.com
SUMMARY:Pastor's Bible Study
DESCRIPTION:
URL:https://umcso.com/event/pastors-bible-study/2028-10-19/
LOCATION:UMCSO Church\, 1176 East Main Street\, Shrub Oak\, 10588\, United States
END:VEVENT
END:VCALENDAR