BEGIN:VCALENDAR
VERSION:2.0
PRODID:-//United Methodist Church at Shrub Oak - ECPv6.15.20//NONSGML v1.0//EN
CALSCALE:GREGORIAN
METHOD:PUBLISH
X-ORIGINAL-URL:https://umcso.com
X-WR-CALDESC:Events for United Methodist Church at Shrub Oak
REFRESH-INTERVAL;VALUE=DURATION:PT1H
X-Robots-Tag:noindex
X-PUBLISHED-TTL:PT1H
BEGIN:VTIMEZONE
TZID:America/New_York
BEGIN:DAYLIGHT
TZOFFSETFROM:-0500
TZOFFSETTO:-0400
TZNAME:EDT
DTSTART:20270314T070000
END:DAYLIGHT
BEGIN:STANDARD
TZOFFSETFROM:-0400
TZOFFSETTO:-0500
TZNAME:EST
DTSTART:20271107T060000
END:STANDARD
BEGIN:DAYLIGHT
TZOFFSETFROM:-0500
TZOFFSETTO:-0400
TZNAME:EDT
DTSTART:20280312T070000
END:DAYLIGHT
BEGIN:STANDARD
TZOFFSETFROM:-0400
TZOFFSETTO:-0500
TZNAME:EST
DTSTART:20281105T060000
END:STANDARD
BEGIN:DAYLIGHT
TZOFFSETFROM:-0500
TZOFFSETTO:-0400
TZNAME:EDT
DTSTART:20290311T070000
END:DAYLIGHT
BEGIN:STANDARD
TZOFFSETFROM:-0400
TZOFFSETTO:-0500
TZNAME:EST
DTSTART:20291104T060000
END:STANDARD
END:VTIMEZONE
BEGIN:VEVENT
DTSTART;TZID=America/New_York:20280701T080000
DTEND;TZID=America/New_York:20280701T093000
DTSTAMP:20260420T133252
CREATED:20230915T214201Z
LAST-MODIFIED:20230915T214347Z
UID:10005072-1846051200-1846056600@umcso.com
SUMMARY:Men's Group
DESCRIPTION:
URL:https://umcso.com/event/mens-group-3-2/2028-07-01/
END:VEVENT
BEGIN:VEVENT
DTSTART;TZID=America/New_York:20280701T093000
DTEND;TZID=America/New_York:20280701T103000
DTSTAMP:20260420T133252
CREATED:20230915T122506Z
LAST-MODIFIED:20230915T122507Z
UID:10003063-1846056600-1846060200@umcso.com
SUMMARY:Leaders of Small Groups
DESCRIPTION:
URL:https://umcso.com/event/leaders-small-group-2021-10-02-3/2028-07-01/
END:VEVENT
END:VCALENDAR